BEGIN:VCALENDAR
VERSION:2.0
CALSCALE:GREGORIAN
BEGIN:VEVENT
SUMMARY:Ashtanga Mysore
DTSTART;TZID=Europe/Amsterdam:20260521T070000
DTEND;TZID=Europe/Amsterdam:20260521T090000
LOCATION:Ground floor
DESCRIPTION: Experience the magic of Mysore mornings. Practice at your own pace, while receiving personal guidance within a supportive group setting. Perfect for all levels, from beginners to advanced practitioners.
   
Doors open at 06:30, with teaching from 07:00–09:00. Start your practice anytime between 06:30 and 08:00, allowing you to fit your practice into your morning routine.
   
New to Mysore? Please arrive after 07:00 for a warm welcome and personalized introduction.
STATUS:CONFIRMED
SEQUENCE:0
END:VEVENT
END:VCALENDAR