BEGIN:VCALENDAR
VERSION:2.0
CALSCALE:GREGORIAN
BEGIN:VEVENT
SUMMARY:Ashtanga Full Primary Led Class
DTSTART;TZID=Europe/Amsterdam:20260412T083000
DTEND;TZID=Europe/Amsterdam:20260412T101500
LOCATION:Ground floor
DESCRIPTION: Surrender to the flow with our dynamic 1 hour 45 minute led class offering a meditative journey through the full primary series. 
   
Counted in the traditional flow, with less room for instruction and explanation, this class is ideal for those with an established (Mysore) practice. While familiarity with the sequence is recommended, you don&#039;t need to master the full series to participate.
STATUS:CONFIRMED
SEQUENCE:0
END:VEVENT
END:VCALENDAR