BEGIN:VCALENDAR
VERSION:2.0
CALSCALE:GREGORIAN
BEGIN:VEVENT
SUMMARY:Stage yoga perfectionnement, 2 journées - inscriptions par téléphone
DTSTART;TZID=Europe/Paris:20260307T093000
DTEND;TZID=Europe/Paris:20260307T173000
LOCATION:montgey, lieu dit le burg ( sortie d&#039;Auvezines prendre puylaurens et rdv 1km5 a gauche panneau yoga)
DESCRIPTION: Stage de yoga 
approfondissement postural

Ce stage est pensé pour les personnes qui souhaitent aller plus loin dans leur pratique posturale et s’offrir un temps réel d’entraînement.
Pendant deux jours, nous prendrons le temps de pratiquer, de répéter, d’ajuster et de comprendre.
L’objectif n’est pas de « faire plus », mais de faire mieux, avec précision, engagement et écoute du corps.
Le travail s’articulera autour de :
– Séquences de vinyasa structurées pour renforcer, stabiliser et fluidifier
– Utilisation du hamac au mur comme outil pédagogique pour explorer les appuis et sécuriser les postures
– Pratique des inversions, abordées de manière progressive et adaptée
– Temps dédiés à l’entraînement, à l’intégration et à l’autonomie dans la pratique
Ce stage s’adresse à des pratiquant·es réguliers souhaitant consolider leurs bases, développer leur confiance et approfondir leur compréhension du corps en mouvement.
Un cadre clair, exigeant et soutenant, pour pratiquer avec justesse.

Tarif
• 1 jour : 50 €
• 2 jours : 90 €
Stage sans hébergement ni repas.
Chacun apporte son pique-nique.

matériel fourni
prévoir pic-nic 

contact : katel 0695803646
inscription obligatoire
STATUS:CONFIRMED
SEQUENCE:0
END:VEVENT
END:VCALENDAR