BEGIN:VCALENDAR
VERSION:2.0
CALSCALE:GREGORIAN
BEGIN:VEVENT
SUMMARY:festival yoga so ham (pezenas)
DTSTART;TZID=Europe/Paris:20260321T080000
DTEND;TZID=Europe/Paris:20260321T183000
LOCATION:pezenas
DESCRIPTION: 
STATUS:CONFIRMED
SEQUENCE:0
END:VEVENT
END:VCALENDAR