BEGIN:VCALENDAR
VERSION:2.0
CALSCALE:GREGORIAN
BEGIN:VEVENT
SUMMARY:Yoga Lunch Break: Online &amp; In person (New batch)
DTSTART;TZID=Europe/London:20250624T123000
DTEND;TZID=Europe/London:20250624T131500
LOCATION:Atha Yoga Shala, Pinner &amp; Online
DESCRIPTION: The perfect desk-detox!
This 45-minute class is a gentle way to stretch out tension, reset your posture, reconnect with yourself, and return to your day feeling centred and refreshed.
Ideal if you’re short on time but still want to move with intention.

Just 45 minutes on the mat can make a big difference — studies show midday yoga can reduce stress by up to 40%, improve focus by 20%, and significantly lift your mood. It’s the smartest break in your day.

*Join online or in person — no excuses!
*All levels welcome. Just step away from your desk and be ready to return with renewed focus and energy.
STATUS:CONFIRMED
SEQUENCE:0
END:VEVENT
END:VCALENDAR