BEGIN:VCALENDAR
VERSION:2.0
CALSCALE:GREGORIAN
BEGIN:VEVENT
SUMMARY:Outdoor SeniorFit
DTSTART;TZID=Europe/Amsterdam:20210528T090000
DTEND;TZID=Europe/Amsterdam:20210528T100000
LOCATION:Trinkbrunnen am Damm
DESCRIPTION: Für alle ab 60+
STATUS:CONFIRMED
SEQUENCE:0
END:VEVENT
END:VCALENDAR