BEGIN:VCALENDAR
VERSION:2.0
CALSCALE:GREGORIAN
BEGIN:VEVENT
SUMMARY:Atelier yoga parents-enfants
DTSTART;TZID=Europe/Paris:20260328T103000
DTEND;TZID=Europe/Paris:20260328T113000
LOCATION:17 rue Daguerre et Niepce 38000 Grenoble
DESCRIPTION: Âges recommandés : 3 à 8 ans
Tarifs à régler sur place (carte bleue non acceptée) :
- 20 euros par binôme parent-enfant
- 25 euros 1 parent avec 2 enfants (merci de me le préciser avant le cours)

1 place = 1 binôme/(trio à préciser par mail)
Matériel nécessaire : 1 tapis

C&#039;est une approche du yoga par le jeu. Cet atelier vous permettra avant tout de partager un bon moment avec votre enfant :)
Nous utiliserons les outils du yoga, postures et respiration, à travers une histoire, des jeux et un moment de relaxation guidée. Le yoga permet à l&#039;enfant d&#039;apprendre à mieux connaître son corps, prendre confiance en lui, bouger en s&#039;amusant et passer du temps avec son parent.

Chaque atelier est une aventure ludique à la découverte de soi et permet d&#039;être en relation avec son enfant et retrouver son âme d&#039;enfant. Aucun prérequis.  

Politique d&#039;annulation : désistement possible jusque 48h avant l&#039;atelier. Toute annulation moins de 48h avant l&#039;évènement est considérée comme due.
STATUS:CONFIRMED
SEQUENCE:0
END:VEVENT
END:VCALENDAR