BEGIN:VCALENDAR
VERSION:2.0
CALSCALE:GREGORIAN
BEGIN:VEVENT
SUMMARY:Children&#039;s Yoga
DTSTART;TZID=America/Chicago:20250308T153000
DTEND;TZID=America/Chicago:20250308T155000
LOCATION:Whole Life Wellness Center
DESCRIPTION: This is a FREE Yoga class for kids. It will be 20 minutes long. Age limit is from 7 - 10 years old. We have limited spaces. We will provide the yoga mats.
STATUS:CONFIRMED
SEQUENCE:0
END:VEVENT
END:VCALENDAR