BEGIN:VCALENDAR
VERSION:2.0
CALSCALE:GREGORIAN
BEGIN:VEVENT
SUMMARY:Explore Reiki - Love Donation
DTSTART;TZID=America/Chicago:20250629T140000
DTEND;TZID=America/Chicago:20250629T160000
LOCATION:Whole Life Wellness Center
DESCRIPTION: Join us as we gather and share the energy of Reiki with each other
STATUS:CONFIRMED
SEQUENCE:0
END:VEVENT
END:VCALENDAR