BEGIN:VCALENDAR
VERSION:2.0
CALSCALE:GREGORIAN
BEGIN:VEVENT
SUMMARY:Acca Cord Cutting - Private Group Session
DTSTART;TZID=America/Chicago:20250726T130000
DTEND;TZID=America/Chicago:20250726T150000
LOCATION:Whole Life Wellness Center
DESCRIPTION: With all the events that take place in our lives we seem to hold on to the negative ones.
In this class you will take a journey down memory lane.
In a ceremony based on Huna Wisdom from Hawaii we will release
these sticky cords that have attached to our auric field, once and for all!
STATUS:CONFIRMED
SEQUENCE:0
END:VEVENT
END:VCALENDAR