BEGIN:VCALENDAR
VERSION:2.0
CALSCALE:GREGORIAN
BEGIN:VEVENT
SUMMARY:Gentle Vinyasa
DTSTART;TZID=America/Chicago:20210824T180000
DTEND;TZID=America/Chicago:20210824T190000
LOCATION:Aum Yoga Studio
DESCRIPTION: Not your ordinary Vinyasa flow, where we really fire up the body. One slow movement at a time with all the benefits. Join Britany with her amazing style of teaching. You will be hooked.
STATUS:CONFIRMED
SEQUENCE:0
END:VEVENT
END:VCALENDAR