BEGIN:VCALENDAR
VERSION:2.0
CALSCALE:GREGORIAN
BEGIN:VEVENT
SUMMARY:Part 2 Yoga Therapy Tune Up
DTSTART;TZID=America/Chicago:20210515T030000
DTEND;TZID=America/Chicago:20210515T050000
LOCATION:Aum  yoga studio
DESCRIPTION: 
STATUS:CONFIRMED
SEQUENCE:0
END:VEVENT
END:VCALENDAR