BEGIN:VCALENDAR
VERSION:2.0
CALSCALE:GREGORIAN
BEGIN:VEVENT
SUMMARY:Morning Flow yoga, Pranayama &amp; Meditation
DTSTART;TZID=Europe/Madrid:20250829T090000
DTEND;TZID=Europe/Madrid:20250829T100000
LOCATION:
DESCRIPTION: 
STATUS:CONFIRMED
SEQUENCE:0
END:VEVENT
END:VCALENDAR