BEGIN:VCALENDAR
VERSION:2.0
CALSCALE:GREGORIAN
BEGIN:VEVENT
SUMMARY:Yoga doux
DTSTART;TZID=Europe/Paris:20250918T194500
DTEND;TZID=Europe/Paris:20250918T204500
LOCATION:Le temple de soi
DESCRIPTION: Le yoga doux est une pratique apaisante qui met l&#039;accent sur des postures simples et des mouvements lents, adaptés à tous les niveaux. Il favorise la relaxation, la souplesse et la réduction du stress, tout en étant idéal pour ceux qui recherchent une approche plus douce et accessible du yoga.

Politique d’annulation abonnements &amp;amp; cartes: Vous devez annuler ou modifier le cours 24h à l’avance, au-delà de ce temps le crédit pour le cours sera perdu.
STATUS:CONFIRMED
SEQUENCE:0
END:VEVENT
END:VCALENDAR