BEGIN:VCALENDAR
VERSION:2.0
CALSCALE:GREGORIAN
BEGIN:VEVENT
SUMMARY:ATELIER &quot;Ayurveda: Reconnaitre sa constitution et rester en équilibre (Aurélie)
DTSTART;TZID=Europe/Paris:20230212T114500
DTEND;TZID=Europe/Paris:20230212T134500
LOCATION:46 rue du chemin de fer 77400 Lagny-Sur-Marne , en fond de cour, porte à gauche, 1er étage
DESCRIPTION: Atelier théorique afin de compléter cette connaissance de soi avec les notions de la médecine traditionnelle ayurvédique: découvrir sa constitution et obtenir des clés pour maintenir ou retrouver l&#039;équilibre! Venez avec vos questions!
Tarif: 30 euros Paiement à l&#039;avance avant le 30 JANVIER
STATUS:CONFIRMED
SEQUENCE:0
END:VEVENT
END:VCALENDAR