BEGIN:VCALENDAR
VERSION:2.0
CALSCALE:GREGORIAN
BEGIN:VEVENT
SUMMARY:Venez fêter les 10 ANS d&#039;AuriayogA!
DTSTART;TZID=Europe/Paris:20230701T170000
DTEND;TZID=Europe/Paris:20230701T190000
LOCATION:46 rue du chemin de fer 77400 lagny-sur marne en fond de cour, porte à gauche, 1er étage
DESCRIPTION: Venez célébrer avec nous les 10 ans de l&#039;école, chance pour chacun de nous d&#039;inspiration, de transformation et de connexion lors de notre anniversaire exceptionnel d&#039;AuriayogA.
STATUS:CONFIRMED
SEQUENCE:0
END:VEVENT
END:VCALENDAR