BEGIN:VCALENDAR
VERSION:2.0
CALSCALE:GREGORIAN
BEGIN:VEVENT
SUMMARY:ZOOM- YOGA-NIVEAUX 2/3 (Aurélie)
DTSTART;TZID=Europe/Paris:20230930T090000
DTEND;TZID=Europe/Paris:20230930T103000
LOCATION:En ligne
DESCRIPTION: Minimum 3 ans de pratique régulière (régularité = plusieurs fois par semaine :-)
En ligne (visio via Zoom) avec les détails de connexion suivants:
ID de réunion: 6462061476
ou cliquez ici: https://us04web.zoom.us/j/6462061476

Le cours sera ouvert en ligne 5 minutes avant l&#039;heure de début du cours. Munissez vous de votre matériel de pratique, trouvez un endroit calme.
STATUS:CONFIRMED
SEQUENCE:0
END:VEVENT
END:VCALENDAR