BEGIN:VCALENDAR
VERSION:2.0
CALSCALE:GREGORIAN
BEGIN:VEVENT
SUMMARY:PORTES OUVERTES cours gratuit
DTSTART;TZID=Europe/Paris:20230910T100000
DTEND;TZID=Europe/Paris:20230910T110000
LOCATION:46 rue du chemin de fer 77400 lagny-sur marne en fond de cour, porte à gauche, 1er étage
DESCRIPTION: COURS GRATUIT suivi d&#039;une rencontre avec les professeurs
STATUS:CONFIRMED
SEQUENCE:0
END:VEVENT
END:VCALENDAR