BEGIN:VCALENDAR
VERSION:2.0
CALSCALE:GREGORIAN
BEGIN:VEVENT
SUMMARY:ATELIER &quot;YOGA DYNAMIQUE: Réactiver le feu intérieur&quot; avec Aurélie
DTSTART;TZID=Europe/Paris:20231119T140000
DTEND;TZID=Europe/Paris:20231119T170000
LOCATION:46 rue du chemin de fer 77400 lagny-sur marne en fond de cour, porte à gauche, 1er étage
DESCRIPTION: Différentes salutations au soleil seront proposées 
Tarif: 40 euros 
Paiement AVANT LE 9 NOVEMBRE 
Des packs ateliers sont disponibles:
Pack 3 ateliers + 1 capsule vidéo offerte : 110 euros
Pack 6 ateliers + pack capsules videos offert : 220 euros
Pour plus d&#039;informations: https://www.auriayoga.com/ateliers-stages-yoga
Ou contactez-nous à admin@auriayoga.com
STATUS:CONFIRMED
SEQUENCE:0
END:VEVENT
END:VCALENDAR