BEGIN:VCALENDAR
VERSION:2.0
CALSCALE:GREGORIAN
BEGIN:VEVENT
SUMMARY:ATELIER EVEIL CORPOREL YOGA ENFANTS de 6 à 8 ans avec Elise (Lien Inscription plus bas)
DTSTART;TZID=Europe/Paris:20230920T144500
DTEND;TZID=Europe/Paris:20230920T154500
LOCATION:46 rue du chemin de fer 77400 lagny-sur marne en fond de cour, porte à gauche, 1er étage
DESCRIPTION: Pour vous inscrire: https://pepites.assoconnect.com/page/2377275-inscription-ateliers-yoga-enfant
Contact : asso.pepites@gmail.com ou 06 71 58 13 84
Atelier d&#039;éveil corporel Thème: &quot; Se promener dans les bois&quot;
Au fil des sons de la nature, des postures de yoga d’animaux, des histoires et comptines forestières, les enfants découvriront la nature, leur corps, leur respiration et se relaxeront dans le studio de yoga, mais dans une ambiance sensorielle au cœur de la nature !
Tarifs:17 euros/19 euros 
Descriptif des ateliers: https://pepites.assoconnect.com/page/2380886-presentation-de-nos-prestations
STATUS:CONFIRMED
SEQUENCE:0
END:VEVENT
END:VCALENDAR