BEGIN:VCALENDAR
VERSION:2.0
CALSCALE:GREGORIAN
BEGIN:VEVENT
SUMMARY:ATELIER EVEIL CORPOREL YOGA ENFANTS de 3 à 5 ans avec Elise (Lien Inscription plus bas)
DTSTART;TZID=Europe/Paris:20231011T160000
DTEND;TZID=Europe/Paris:20231011T170000
LOCATION:46 rue du chemin de fer 77400 lagny-sur marne en fond de cour, porte à gauche, 1er étage
DESCRIPTION: Pour vous inscrire: https://pepites.assoconnect.com/page/2377275-inscription-ateliers-yoga-enfant
Contact : asso.pepites@gmail.com ou 06 71 58 13 84
Atelier d&#039;éveil corporel Thème: &quot; Les émotions &quot;
Découvrir ses émotions, en jouer pour mieux les réguler… Expérimenter son vécu corporel et
émotionnel au fil des postures de yoga, des jeux autour de la colère, de la joie… Apprendre à utiliser
sa respiration pour se détendre et à se relaxer pour mieux se ressourcer.
Tarifs:17 euros/19 euros
Descriptif des ateliers: https://pepites.assoconnect.com/page/2380886-presentation-de-nos-prestations
STATUS:CONFIRMED
SEQUENCE:0
END:VEVENT
END:VCALENDAR