BEGIN:VCALENDAR
VERSION:2.0
CALSCALE:GREGORIAN
BEGIN:VEVENT
SUMMARY:YOGA RÉGÉNÉRATEUR ET NIDRA (Marie-Laure)
DTSTART;TZID=Europe/Paris:20260415T193000
DTEND;TZID=Europe/Paris:20260415T204500
LOCATION:46 rue du chemin de fer 77400 lagny sur marne
DESCRIPTION: Les deux pratiques combinées aident à rééquilibrer le système nerveux, en cas de grande fatigue physique ou psychique, stress, anxiété, suractivité mentale, en cours de traitement médical, rééducation, pré ou postnatal...
Elles contribuent aussi à un meilleur sommeil, une meilleur gestion du stress et des émotions, elle aide à &#039;lâcher prise&#039; et régénère.
C&#039;est une pratique accessible à tous les niveaux.
https://www.auriayoga.com/yoga-regenerateur
STATUS:CONFIRMED
SEQUENCE:0
END:VEVENT
END:VCALENDAR