BEGIN:VCALENDAR
VERSION:2.0
CALSCALE:GREGORIAN
BEGIN:VEVENT
SUMMARY:COURS PRIVÉ, MASSAGE OU SOIN avec Aurélie de 13h à 19h - RDV au 0652522489 (détail en description)
DTSTART;TZID=Europe/Paris:20260412T130000
DTEND;TZID=Europe/Paris:20260412T190000
LOCATION:46 rue du chemin de fer 77400 lagny sur marne
DESCRIPTION: COURS PRIVÉ ou CONSULTATION AYURVEDIQUE:
https://www.auriayoga.com/cours-particuliers

PREPARATION ACCOUCHEMENT:
https://www.auriayoga.com/copie-de-doula-pré-post-natal

MASSAGE et SOIN: massage pieds, crâne ou shirodhara
https://www.auriayoga.com/massagesetsoins

avec AURÉLIE prise de RDV au 0652522489
STATUS:CONFIRMED
SEQUENCE:0
END:VEVENT
END:VCALENDAR