BEGIN:VCALENDAR
VERSION:2.0
CALSCALE:GREGORIAN
BEGIN:VEVENT
SUMMARY:Vinyasa /yin
DTSTART;TZID=Europe/Paris:20231026T103000
DTEND;TZID=Europe/Paris:20231026T114500
LOCATION:Camping La Grière André Triagno La tranche
DESCRIPTION: Cours complet dynamique dans une première partie puis en second temps  d&#039;étirements doux au sol avec de la relaxation en fin de cours
STATUS:CONFIRMED
SEQUENCE:0
END:VEVENT
END:VCALENDAR