BEGIN:VCALENDAR
VERSION:2.0
CALSCALE:GREGORIAN
BEGIN:VEVENT
SUMMARY:Full Led Class &amp; Pranayama (X-Mas)
DTSTART;TZID=Europe/Berlin:20251221T090000
DTEND;TZID=Europe/Berlin:20251221T110000
LOCATION:Badehaus,  Bahnhofstraße 12, 28195 Bremen
DESCRIPTION: Kurz vor Weihnachten gibt es eine Led Class der ersten Serie. Danach können wir gemütlich zusammensitzen und das mitgebrachte Essen verzehren!
Dieser Kurs ist auf Spendenbasis. Das Geld wird einer lokalen Vereinigung gespendet.
STATUS:CONFIRMED
SEQUENCE:0
END:VEVENT
END:VCALENDAR