BEGIN:VCALENDAR
VERSION:2.0
CALSCALE:GREGORIAN
BEGIN:VEVENT
SUMMARY:Led Primary Series In Person &amp;
DTSTART;TZID=America/Los_Angeles:20251026T080000
DTEND;TZID=America/Los_Angeles:20251026T093000
LOCATION:AYLB
DESCRIPTION: Traditionally counted Primary Series.
Chant &amp;amp; instruction begins at 8am-9:30am. 
Please Note - Yoga Sutra Study begins at 9:30am there will be no adjustments after this time.
Please be respectful and quiet if you are still finishing your practice after 9:30am
STATUS:CONFIRMED
SEQUENCE:0
END:VEVENT
END:VCALENDAR