BEGIN:VCALENDAR
VERSION:2.0
CALSCALE:GREGORIAN
BEGIN:VEVENT
SUMMARY:Led Primary Series IN PERSON &amp;
DTSTART;TZID=America/Los_Angeles:20251228T080000
DTEND;TZID=America/Los_Angeles:20251228T093000
LOCATION:AYLB
DESCRIPTION: All are welcome for traditionally counted Led Primary Series. Doors open at 7:45am
Chant &amp;amp; instruction begins promptly at 8am
STATUS:CONFIRMED
SEQUENCE:0
END:VEVENT
END:VCALENDAR