BEGIN:VCALENDAR
VERSION:2.0
CALSCALE:GREGORIAN
BEGIN:VEVENT
SUMMARY:Sanskrit + Chanting in Person and
DTSTART;TZID=America/Los_Angeles:20250504T103000
DTEND;TZID=America/Los_Angeles:20250504T110000
LOCATION:Zoom &amp; CYC
DESCRIPTION: 30 minute Sanskrit and Chanting class
STATUS:CONFIRMED
SEQUENCE:0
END:VEVENT
END:VCALENDAR