BEGIN:VCALENDAR
VERSION:2.0
CALSCALE:GREGORIAN
BEGIN:VEVENT
SUMMARY:Vedic Astrology with Jesse Gordon
DTSTART;TZID=America/Los_Angeles:20250914T100000
DTEND;TZID=America/Los_Angeles:20250914T120000
LOCATION:Community Yoga Club
DESCRIPTION: What are the planets telling us? Join us as Jesse introduces us to the different “personalities” of the planets and their influences on us and sheds light on how understanding our personal astrology can shift how we see our experiences
STATUS:CONFIRMED
SEQUENCE:0
END:VEVENT
END:VCALENDAR