BEGIN:VCALENDAR
VERSION:2.0
CALSCALE:GREGORIAN
BEGIN:VEVENT
SUMMARY:Yoga Module 1 lesdag 5
DTSTART;TZID=Europe/Amsterdam:20260328T100000
DTEND;TZID=Europe/Amsterdam:20260328T170000
LOCATION:Koningshof, Uiverlaan 20 Maassluis
DESCRIPTION: Docent Wendy Compeer
STATUS:CONFIRMED
SEQUENCE:0
END:VEVENT
END:VCALENDAR