BEGIN:VCALENDAR
VERSION:2.0
CALSCALE:GREGORIAN
BEGIN:VEVENT
SUMMARY:Sanskriet Module 1 - Halve dag
DTSTART;TZID=Europe/Amsterdam:20260516T140000
DTEND;TZID=Europe/Amsterdam:20260516T170000
LOCATION:Koningshof, Uiverlaan 20 Maassluis
DESCRIPTION: Docent Mieke Bosman
STATUS:CONFIRMED
SEQUENCE:0
END:VEVENT
END:VCALENDAR