BEGIN:VCALENDAR
VERSION:2.0
CALSCALE:GREGORIAN
BEGIN:VEVENT
SUMMARY:Yoga module 2  lesdag 5
DTSTART;TZID=Europe/Amsterdam:20260418T100000
DTEND;TZID=Europe/Amsterdam:20260418T170000
LOCATION:Koningshof, Uiverlaan 20 Maassluis
DESCRIPTION: Docent Wendy Compeer | Uta Bisseswar
STATUS:CONFIRMED
SEQUENCE:0
END:VEVENT
END:VCALENDAR