BEGIN:VCALENDAR
VERSION:2.0
CALSCALE:GREGORIAN
BEGIN:VEVENT
SUMMARY:Centrale Ayurveda Toets dag theorie
DTSTART;TZID=Europe/Amsterdam:20260628T100000
DTEND;TZID=Europe/Amsterdam:20260628T130000
LOCATION:Koningshof, Uiverlaan 20 Maassluis
DESCRIPTION: Centrale Ayurveda Toets dag theorie
STATUS:CONFIRMED
SEQUENCE:0
END:VEVENT
END:VCALENDAR