BEGIN:VCALENDAR
VERSION:2.0
CALSCALE:GREGORIAN
BEGIN:VEVENT
SUMMARY:Jivamukti Meditation
DTSTART;TZID=Asia/Phnom_Penh:20250925T174500
DTEND;TZID=Asia/Phnom_Penh:20250925T184500
LOCATION:https://goo.gl/maps/jv7XaU4cA8ncgbQ18
DESCRIPTION: Looking to relax and de-stress? Our Yoga Relaxing and Meditation class combines meditation and gentle yoga poses to help you unwind. You&amp;#039;ll be guided through breathing exercises, mindfulness practices, and gentle stretching to calm your mind and release tension. It’s a wonderful way to recharge and find inner peace amidst the busyness of life.
STATUS:CONFIRMED
SEQUENCE:0
END:VEVENT
END:VCALENDAR