BEGIN:VCALENDAR
VERSION:2.0
CALSCALE:GREGORIAN
BEGIN:VEVENT
SUMMARY:Jivamukti Yoga Master class
DTSTART;TZID=Asia/Phnom_Penh:20250409T173000
DTEND;TZID=Asia/Phnom_Penh:20250409T190000
LOCATION:https://goo.gl/maps/jv7XaU4cA8ncgbQ18
DESCRIPTION: A Jivamukti Yoga Master Class is a special two-hour class that gives you the opportunity to go deeper than what you can typically accomplish in a standard practice. Students will hear and experience what makes Jivamukti Yoga a unique method. In addition to a full asana practice, this class will cover chanting, pranayama (breathing techniques), and meditation, infused with practical philosophy. This is an Open Level class, though a basic familiarity with yoga is recommended.
STATUS:CONFIRMED
SEQUENCE:0
END:VEVENT
END:VCALENDAR