BEGIN:VCALENDAR
VERSION:2.0
CALSCALE:GREGORIAN
BEGIN:VEVENT
SUMMARY:Hatha Yoga Beneden Leeuwen LAATSTE LES OP DEZE DAG &amp; LOCATIE
DTSTART;TZID=Europe/Amsterdam:20231011T203000
DTEND;TZID=Europe/Amsterdam:20231011T213000
LOCATION:Nijverheidsstraat 4a Beneden Leeuwen
DESCRIPTION: De meest traditionele  yogastijl waarbij de focus  ligt op het in balans brengen van lichaam en geest. De uitlijning van het lichaam in de houdingen  en lichaam bewustwording zijn belangrijke onderdelen. De houdingen worden statisch vastgehouden voor 5 tot 10 ademhalingen. Hatha yoga brengt innerlijke rust, vermindert stress en geeft uiteraard meer energie. Trakteer jezelf op een uurtje aandacht voor je eigen lichaam en geest, dat is het beste wat je voor jezelf kan doen! B.U!
STATUS:CONFIRMED
SEQUENCE:0
END:VEVENT
END:VCALENDAR