BEGIN:VCALENDAR
VERSION:2.0
CALSCALE:GREGORIAN
BEGIN:VEVENT
SUMMARY:Online Ontspannende ochtend slow flow Yoga
DTSTART;TZID=Europe/Amsterdam:20231204T093000
DTEND;TZID=Europe/Amsterdam:20231204T102000
LOCATION:online
DESCRIPTION: Start de dag op een optimale voor je gezondheid manier! Ervaar de voordelen van yoga in je eigen huis met deze leuke en ontspannende les! Je leert hoe je je lichaam en geest kunt rekken en kalmeren met eenvoudige maar effectieve oefeningen. Je voelt je fris en energiek na deze online yoga sessie!
STATUS:CONFIRMED
SEQUENCE:0
END:VEVENT
END:VCALENDAR