BEGIN:VCALENDAR
VERSION:2.0
CALSCALE:GREGORIAN
BEGIN:VEVENT
SUMMARY:Online HIIT training voor conditie, kracht en fatburn (geen apparatuur vereist)
DTSTART;TZID=Europe/Amsterdam:20231201T200000
DTEND;TZID=Europe/Amsterdam:20231201T204500
LOCATION:online
DESCRIPTION: Een interval training, die je heel makkelijk vanuit thuis kan volgen! Bouw conditie en kracht op, verbrand behoorljik veel calorieen en dat zonder de deur uit te moeten en zonder uren te spenderen in de Gym! Doe mee en ervaar het zelf! Te volgen in eigen tempo en je pas het aan aan je eigen conditie niveau.Ik geef ook verschillende variaties.
STATUS:CONFIRMED
SEQUENCE:0
END:VEVENT
END:VCALENDAR