BEGIN:VCALENDAR
VERSION:2.0
CALSCALE:GREGORIAN
BEGIN:VEVENT
SUMMARY:Online HIIT Tabata training voor conditie, kracht en fatburn. low impact, no jumping, geschikt voor beginners en iedereen(geen apparatuur vereist)
DTSTART;TZID=Europe/Amsterdam:20231229T200000
DTEND;TZID=Europe/Amsterdam:20231229T204500
LOCATION:home training
DESCRIPTION: Tabata is een vorm van High-Intensity Interval Training (HIIT) die zich kenmerkt door korte, intensieve inspanningen gevolgd door korte rustperiodes. Het bijzondere aan Tabata is dat het uitgaat van een specifiek protocol: 20 seconden maximale inspanning, gevolgd door 10 seconden rust. Deze cyclus wordt herhaald voor in totaal 4 minuten, wat neerkomt op 8 intervallen.

Bij een Tabata HIIT-training met een focus op low-impact oefeningen worden de intensieve bewegingen zodanig aangepast dat ze minder belastend zijn voor gewrichten en spieren.
STATUS:CONFIRMED
SEQUENCE:0
END:VEVENT
END:VCALENDAR