BEGIN:VCALENDAR
VERSION:2.0
CALSCALE:GREGORIAN
BEGIN:VEVENT
SUMMARY:Chair Yoga
DTSTART;TZID=Europe/London:20260702T100000
DTEND;TZID=Europe/London:20260702T110000
LOCATION:The Yoga Tree NR13NB
DESCRIPTION: Chair Yoga for all in the small studio at The Yoga Tree

A seated yoga practice for anyone who prefers exercise on a chair and rebuilding strength &amp;amp; stamina. This practice will offer tools to improve joint mobility, increase circulation and uplift your being in a wholesome practical and joyful way.

enjoy a light lunch or Tea and Cake after in the Cafe!
STATUS:CONFIRMED
SEQUENCE:0
END:VEVENT
END:VCALENDAR