BEGIN:VCALENDAR
VERSION:2.0
CALSCALE:GREGORIAN
BEGIN:VEVENT
SUMMARY:Yoga Basics
DTSTART;TZID=Europe/Amsterdam:20171118T110000
DTEND;TZID=Europe/Amsterdam:20171118T120000
LOCATION:Yogazaal boven
DESCRIPTION: Een les voor alle leden van Basicflow en vooral voor degene die later zijn ingestroomd. Basis principes worden herhaald en als je vragen hebt dan kun je deze stellen.
STATUS:CONFIRMED
SEQUENCE:0
END:VEVENT
END:VCALENDAR