BEGIN:VCALENDAR
VERSION:2.0
CALSCALE:GREGORIAN
BEGIN:VEVENT
SUMMARY:LIVESTREAM: mechanics in yoga movement - All Levels
DTSTART;TZID=America/Chicago:20250120T173000
DTEND;TZID=America/Chicago:20250120T183000
LOCATION:Studio
DESCRIPTION: 
STATUS:CONFIRMED
SEQUENCE:0
END:VEVENT
END:VCALENDAR