BEGIN:VCALENDAR
VERSION:2.0
CALSCALE:GREGORIAN
BEGIN:VEVENT
SUMMARY:Monday Meditation - All Level (Janine)
DTSTART;TZID=America/Chicago:20240916T183000
DTEND;TZID=America/Chicago:20240916T190000
LOCATION:Studio
DESCRIPTION: All Level are Welcome.
STATUS:CONFIRMED
SEQUENCE:0
END:VEVENT
END:VCALENDAR