BEGIN:VCALENDAR
VERSION:2.0
CALSCALE:GREGORIAN
BEGIN:VEVENT
SUMMARY:Womens Wisdom Circle
DTSTART;TZID=America/Chicago:20241215T130000
DTEND;TZID=America/Chicago:20241215T150000
LOCATION:Studio
DESCRIPTION: Melissa and Theresa have felt the call to bring together women for sacred circle experiences. It comes from a longing to go deeper with women and truly support each others growth and expansion. Are you looking to connect with the sisterhood where the conversations go deep and we support each others brilliance? Are you wanting to know how to tap into your own Innate wisdom, so that you always know what to do? If so come join us for Circle once a month.

$20 love offering to help pay for space rental and the time, effort and love put into this event.
STATUS:CONFIRMED
SEQUENCE:0
END:VEVENT
END:VCALENDAR