BEGIN:VCALENDAR
VERSION:2.0
CALSCALE:GREGORIAN
BEGIN:VEVENT
SUMMARY:Gong and Sound Bath for Interntional Day of Peace
DTSTART;TZID=America/Chicago:20240921T190000
DTEND;TZID=America/Chicago:20240921T201500
LOCATION:Studio
DESCRIPTION: Join us for a FREE gong and sound bath event being held on the International Day of Peace. Wear comfortable clothes and bring whatever blankets, pillows, eye bags, and anything else you may need to be comfortable. Please register for the event for proper planning.

&quot;The International Day of Peace, also officially known as World Peace Day, is a United Nations-sanctioned holiday observed annually on 21 September. It is dedicated to world peace, and specifically the absence of war and violence, such as might be occasioned by a temporary ceasefire in a combat zone for humanitarian aid access. The day was first established in 1981 and first observed in September 1982 and is kept by many nations, political groups, military groups, and people.&quot;
https://en.wikipedia.org/wiki/International_Day_of_Peace
STATUS:CONFIRMED
SEQUENCE:0
END:VEVENT
END:VCALENDAR