BEGIN:VCALENDAR
VERSION:2.0
CALSCALE:GREGORIAN
BEGIN:VEVENT
SUMMARY:Beginner Yoga - Carol
DTSTART;TZID=America/Chicago:20241218T180000
DTEND;TZID=America/Chicago:20241218T191500
LOCATION:Studio
DESCRIPTION: This beginner class will be offered for a limited time only! Join us starting December 11 - January 1st (skipping Wednesday, December 25) for a beginner yoga session available as a drop in class. 
This class is open to all! No experience necessary. 
Pre-registration required. Standard rates apply.
STATUS:CONFIRMED
SEQUENCE:0
END:VEVENT
END:VCALENDAR