BEGIN:VCALENDAR
VERSION:2.0
CALSCALE:GREGORIAN
BEGIN:VEVENT
SUMMARY:Guided Meditation: Calling All Angels
DTSTART;TZID=America/Chicago:20250111T130000
DTEND;TZID=America/Chicago:20250111T140000
LOCATION:Studio
DESCRIPTION: Guided meditation: Calling all Angels with Melissa Fischer and Theresa Bowman
Saturday, January 11
1:00 - 2:00 pm

Join us for a tranquil meditation designed to deepen your connection with your angel guides. Through gentle breathwork, visualization, and affirmations, you&#039;ll invite the loving presence of your guides for messages of clarity and peace.

The soothing tones of sound bowls will enhance the experience, creating a serene space for healing and divine connection. Open your heart, relax your mind, and embrace the light of your angelic guides.

$20 for the session
STATUS:CONFIRMED
SEQUENCE:0
END:VEVENT
END:VCALENDAR