BEGIN:VCALENDAR
VERSION:2.0
CALSCALE:GREGORIAN
BEGIN:VEVENT
SUMMARY:POP UP - FREE meditation with Amy
DTSTART;TZID=America/Chicago:20250109T120000
DTEND;TZID=America/Chicago:20250109T123000
LOCATION:Studio
DESCRIPTION: Join Amy for a free 30 min. meditation session. 
Mid-day meditation is not just a moment to check in—it’s a vital practice for resetting your mind, calming your body, and restoring focus in the midst of a busy day. By taking just a short break to center yourself, you can reduce stress, enhance mental clarity, and boost overall well-being.
STATUS:CONFIRMED
SEQUENCE:0
END:VEVENT
END:VCALENDAR