BEGIN:VCALENDAR
VERSION:2.0
CALSCALE:GREGORIAN
BEGIN:VEVENT
SUMMARY:Clear Your Brain Fog!
DTSTART;TZID=America/Chicago:20250316T130000
DTEND;TZID=America/Chicago:20250316T150000
LOCATION:Studio
DESCRIPTION: Feel VIBRANT • CLEAR • STRONG!
Reset Your Nervous System!

Discover simple yet powerful techniques to help downregulate your nervous system and restore balance. In this transformative session, you’ll practice:

Deep relaxation to calm the mind and body
Breath regulation to steady your energy
Mindful movement to release tension
Mindfulness practices to cultivate inner peace
You’ll leave with practical tools to help you feel FABULOUS every day and stay on the path to inner healing and resilience.

$30 for the session.
STATUS:CONFIRMED
SEQUENCE:0
END:VEVENT
END:VCALENDAR