BEGIN:VCALENDAR
VERSION:2.0
CALSCALE:GREGORIAN
BEGIN:VEVENT
SUMMARY:kids canvas and yoga with Shawn
DTSTART;TZID=America/Chicago:20250222T113000
DTEND;TZID=America/Chicago:20250222T123000
LOCATION:Studio
DESCRIPTION: 🧘‍♀️ Kids&#039; Yoga &amp;amp; Creativity Session 🎨

Bring your little ones for a fun and engaging Kids&#039; Yoga session designed just for them!

✨ What’s Included:

Yoga: Playful and interactive poses to help kids move, stretch, and unwind.

Craft Activity: A hands-on art project they’ll create and bring home as a keepsake.

Lunch Provided: A healthy, kid-friendly meal to fuel their creativity and energy.

This session is the perfect blend of movement, mindfulness, and fun! 🌟
$10/person. Adults must accompany the children and pay for themselves as a participant. Register for your group size.
STATUS:CONFIRMED
SEQUENCE:0
END:VEVENT
END:VCALENDAR